BEGIN:VCALENDAR
VERSION:2.0
PRODID:-//Sole Relax - ECPv4.5.13//NONSGML v1.0//EN
CALSCALE:GREGORIAN
METHOD:PUBLISH
X-WR-CALNAME:Sole Relax
X-ORIGINAL-URL:https://solerelax.it
X-WR-CALDESC:Events for Sole Relax
BEGIN:VEVENT
DTSTART;TZID=UTC+0:20231008T173000
DTEND;TZID=UTC+0:20231008T190000
DTSTAMP:20260421T132857
CREATED:20230921T065141Z
LAST-MODIFIED:20230921T065141Z
UID:6174-1696786200-1696791600@solerelax.it
SUMMARY:Música de Fiesta
DESCRIPTION:
URL:https://solerelax.it/event/musica-de-fiesta/
LOCATION:via Zanardelli\, Castiglione delle Stiviere\, 46043\, Italia
CATEGORIES:K.des Kiosco Desenzani
ATTACH;FMTTYPE=image/jpeg:https://solerelax.it/wp-content/uploads/2023/09/marco-lanfranchi-8-ottobre-k.des-kiosco-desenzani-.jpg
END:VEVENT
END:VCALENDAR