BEGIN:VCALENDAR
VERSION:2.0
PRODID:-//Sole Relax - ECPv4.5.13//NONSGML v1.0//EN
CALSCALE:GREGORIAN
METHOD:PUBLISH
X-WR-CALNAME:Sole Relax
X-ORIGINAL-URL:https://solerelax.it
X-WR-CALDESC:Events for Sole Relax
BEGIN:VEVENT
DTSTART;TZID=UTC+0:20230907T210000
DTEND;TZID=UTC+0:20230907T233000
DTSTAMP:20260421T145925
CREATED:20230904T074520Z
LAST-MODIFIED:20230904T074520Z
UID:6136-1694120400-1694129400@solerelax.it
SUMMARY:Ballando sotto le Stelle al K.DES
DESCRIPTION:
URL:https://solerelax.it/event/ballando-le-stelle-al-k-des/
LOCATION:via Zanardelli\, Castiglione delle Stiviere\, 46043\, Italia
CATEGORIES:K.des Kiosco Desenzani
ATTACH;FMTTYPE=image/jpeg:https://solerelax.it/wp-content/uploads/2023/09/ballando-al-k.des-settembre-tracciato-quadrato-.jpg
END:VEVENT
END:VCALENDAR