BEGIN:VCALENDAR
VERSION:2.0
PRODID:-//Sole Relax - ECPv4.5.13//NONSGML v1.0//EN
CALSCALE:GREGORIAN
METHOD:PUBLISH
X-WR-CALNAME:Sole Relax
X-ORIGINAL-URL:https://solerelax.it
X-WR-CALDESC:Events for Sole Relax
BEGIN:VEVENT
DTSTART;TZID=UTC+0:20230829T203000
DTEND;TZID=UTC+0:20230829T233000
DTSTAMP:20260421T145628
CREATED:20230731T125624Z
LAST-MODIFIED:20230731T125624Z
UID:6091-1693341000-1693351800@solerelax.it
SUMMARY:Danzando sotto le Stelle con Fabio Menegato
DESCRIPTION:
URL:https://solerelax.it/event/danzando-le-stelle-fabio-menegato/
LOCATION:via Zanardelli\, Castiglione delle Stiviere\, 46043\, Italia
CATEGORIES:K.des Kiosco Desenzani
ATTACH;FMTTYPE=image/jpeg:https://solerelax.it/wp-content/uploads/2023/07/ballando-al-k.des-speciale-3-810-1722-24-e-29-e-31-agosto-tracciato-.jpg
END:VEVENT
END:VCALENDAR