BEGIN:VCALENDAR
VERSION:2.0
PRODID:-//Sole Relax - ECPv4.5.13//NONSGML v1.0//EN
CALSCALE:GREGORIAN
METHOD:PUBLISH
X-WR-CALNAME:Sole Relax
X-ORIGINAL-URL:https://solerelax.it
X-WR-CALDESC:Events for Sole Relax
BEGIN:VEVENT
DTSTART;TZID=UTC+0:20230729T203000
DTEND;TZID=UTC+0:20230729T233000
DTSTAMP:20260423T084256
CREATED:20230630T134515Z
LAST-MODIFIED:20230630T134515Z
UID:6046-1690662600-1690673400@solerelax.it
SUMMARY:Stereo Italia - K.DES
DESCRIPTION:
URL:https://solerelax.it/event/stereo-italia-k-des/
LOCATION:via Zanardelli\, Castiglione delle Stiviere\, 46043\, Italia
CATEGORIES:K.des Kiosco Desenzani
ATTACH;FMTTYPE=image/jpeg:https://solerelax.it/wp-content/uploads/2023/06/29-luglio-bozza-con-collaborazione-e-food-definitivo-.jpg
END:VEVENT
END:VCALENDAR