BEGIN:VCALENDAR
VERSION:2.0
PRODID:-//Sole Relax - ECPv4.5.13//NONSGML v1.0//EN
CALSCALE:GREGORIAN
METHOD:PUBLISH
X-WR-CALNAME:Sole Relax
X-ORIGINAL-URL:https://solerelax.it
X-WR-CALDESC:Events for Sole Relax
BEGIN:VEVENT
DTSTART;TZID=UTC+0:20230721T200000
DTEND;TZID=UTC+0:20230721T233000
DTSTAMP:20260423T084234
CREATED:20230714T081838Z
LAST-MODIFIED:20230719T085525Z
UID:6057-1689969600-1689982200@solerelax.it
SUMMARY:LATINO AL K.DES
DESCRIPTION:
URL:https://solerelax.it/event/latino-al-k-des/
LOCATION:via Zanardelli\, Castiglione delle Stiviere\, 46043\, Italia
CATEGORIES:K.des Kiosco Desenzani
ATTACH;FMTTYPE=image/jpeg:https://solerelax.it/wp-content/uploads/2023/07/Fiesta-latina-al-k.des-opzione-2-tracciato-.jpg
END:VEVENT
END:VCALENDAR