BEGIN:VCALENDAR
VERSION:2.0
PRODID:-//Sole Relax - ECPv4.5.13//NONSGML v1.0//EN
CALSCALE:GREGORIAN
METHOD:PUBLISH
X-WR-CALNAME:Sole Relax
X-ORIGINAL-URL:https://solerelax.it
X-WR-CALDESC:Events for Sole Relax
BEGIN:VEVENT
DTSTART;TZID=UTC+0:20230716T203000
DTEND;TZID=UTC+0:20230716T233000
DTSTAMP:20260421T180241
CREATED:20230615T082434Z
LAST-MODIFIED:20230615T082434Z
UID:6025-1689539400-1689550200@solerelax.it
SUMMARY:70 80 90 al K.DES
DESCRIPTION:
URL:https://solerelax.it/event/70-80-90-al-k-des-2/
LOCATION:via Zanardelli\, Castiglione delle Stiviere\, 46043\, Italia
CATEGORIES:K.des Kiosco Desenzani
ATTACH;FMTTYPE=image/jpeg:https://solerelax.it/wp-content/uploads/2023/06/70-80-90-al-k.des-16-luglio-dj-benda-.jpg
END:VEVENT
END:VCALENDAR