BEGIN:VCALENDAR
VERSION:2.0
PRODID:-//Sole Relax - ECPv4.5.13//NONSGML v1.0//EN
CALSCALE:GREGORIAN
METHOD:PUBLISH
X-WR-CALNAME:Sole Relax
X-ORIGINAL-URL:https://solerelax.it
X-WR-CALDESC:Events for Sole Relax
BEGIN:VEVENT
DTSTART;TZID=UTC+0:20230712T203000
DTEND;TZID=UTC+0:20230712T233000
DTSTAMP:20260421T180240
CREATED:20230613T070152Z
LAST-MODIFIED:20230613T070152Z
UID:5948-1689193800-1689204600@solerelax.it
SUMMARY:Karaoke K.DES
DESCRIPTION:
URL:https://solerelax.it/event/karaoke-k-des-4/
LOCATION:via Zanardelli\, Castiglione delle Stiviere\, 46043\, Italia
CATEGORIES:K.des Kiosco Desenzani
ATTACH;FMTTYPE=image/jpeg:https://solerelax.it/wp-content/uploads/2023/06/karaoke-tutti-i-mercoledì-di-giugno-e-luglio-.jpg
END:VEVENT
END:VCALENDAR