BEGIN:VCALENDAR
VERSION:2.0
PRODID:-//Sole Relax - ECPv4.5.13//NONSGML v1.0//EN
CALSCALE:GREGORIAN
METHOD:PUBLISH
X-WR-CALNAME:Sole Relax
X-ORIGINAL-URL:https://solerelax.it
X-WR-CALDESC:Events for Sole Relax
BEGIN:VEVENT
DTSTART;TZID=UTC+0:20230707T203000
DTEND;TZID=UTC+0:20230707T233000
DTSTAMP:20260421T180111
CREATED:20230630T134251Z
LAST-MODIFIED:20230630T135257Z
UID:6043-1688761800-1688772600@solerelax.it
SUMMARY:Viernes Tropical - Venerdì latino al K.DES
DESCRIPTION:Viernes Tropical – Venerdì latino al K.DES\nVenerdì 7 Luglio ti aspettiamo al K.DES a cena con panino e salamella.\nDalle 20:30 balleremo con la musica di Dj Compadre e l’animazione di Lorenzo e Arthur.\nPer tutta la serata promo tre birre a soli 10 euro!\nSiamo all’interno del Parco Desenzani in via Zanardelli a Castiglione delle Stiviere (MN). \n
URL:https://solerelax.it/event/viernes-tropical-venerdi-latino-al-k-des/
LOCATION:via Zanardelli\, Castiglione delle Stiviere\, 46043\, Italia
CATEGORIES:K.des Kiosco Desenzani
ATTACH;FMTTYPE=image/jpeg:https://solerelax.it/wp-content/uploads/2023/06/Immagine-WhatsApp-2023-06-29-ore-15.34.10-q-.jpg
END:VEVENT
END:VCALENDAR