BEGIN:VCALENDAR
VERSION:2.0
PRODID:-//Sole Relax - ECPv4.5.13//NONSGML v1.0//EN
CALSCALE:GREGORIAN
METHOD:PUBLISH
X-WR-CALNAME:Sole Relax
X-ORIGINAL-URL:https://solerelax.it
X-WR-CALDESC:Events for Sole Relax
BEGIN:VEVENT
DTSTART;TZID=UTC+0:20230628T203000
DTEND;TZID=UTC+0:20230628T233000
DTSTAMP:20260421T180112
CREATED:20230613T070001Z
LAST-MODIFIED:20230613T070001Z
UID:5944-1687984200-1687995000@solerelax.it
SUMMARY:Ogni Mercoledì - Karaoke K.DES
DESCRIPTION:
URL:https://solerelax.it/event/mercoledi-karaoke-k-des/
LOCATION:via Zanardelli\, Castiglione delle Stiviere\, 46043\, Italia
CATEGORIES:K.des Kiosco Desenzani
ATTACH;FMTTYPE=image/jpeg:https://solerelax.it/wp-content/uploads/2023/06/karaoke-tutti-i-mercoledì-di-giugno-e-luglio-.jpg
END:VEVENT
END:VCALENDAR