BEGIN:VCALENDAR
VERSION:2.0
PRODID:-//Sole Relax - ECPv4.5.13//NONSGML v1.0//EN
CALSCALE:GREGORIAN
METHOD:PUBLISH
X-WR-CALNAME:Sole Relax
X-ORIGINAL-URL:https://solerelax.it
X-WR-CALDESC:Events for Sole Relax
BEGIN:VEVENT
DTSTART;TZID=UTC+0:20230623T203000
DTEND;TZID=UTC+0:20230623T233000
DTSTAMP:20260421T194530
CREATED:20230620T124347Z
LAST-MODIFIED:20230620T124347Z
UID:6034-1687552200-1687563000@solerelax.it
SUMMARY:Fiesta Latina al K.DES
DESCRIPTION:Fiesta Latina al K.DES\nVenerdì 23 Giugno dalle 20:30 ti aspettiamo per la Fiesta latina al K.DES\, presso il Parco Desenzani di via Zanardelli a Castiglione delle Stiviere MN. \nCena con noi\, menu panino e salamella con bibita\, bicchiere di vino o birra a soli € 8\,00; opzione con acqua a soli € 6\,00.\nNon mancare\, ti aspettiamo con la musica di Dj Compadre e l’animazione di Arthur e Valentina. \n
URL:https://solerelax.it/event/fiesta-latina-al-k-des/
LOCATION:via Zanardelli\, Castiglione delle Stiviere\, 46043\, Italia
CATEGORIES:K.des Kiosco Desenzani
ATTACH;FMTTYPE=image/jpeg:https://solerelax.it/wp-content/uploads/2023/06/Fiesta-latina-al-k.des-con-panino-.jpg
END:VEVENT
END:VCALENDAR