BEGIN:VCALENDAR
VERSION:2.0
PRODID:-//Sole Relax - ECPv4.5.13//NONSGML v1.0//EN
CALSCALE:GREGORIAN
METHOD:PUBLISH
X-WR-CALNAME:Sole Relax
X-ORIGINAL-URL:https://solerelax.it
X-WR-CALDESC:Events for Sole Relax
BEGIN:VEVENT
DTSTART;TZID=UTC+0:20230622T210000
DTEND;TZID=UTC+0:20230622T233000
DTSTAMP:20260421T194701
CREATED:20230613T072327Z
LAST-MODIFIED:20230613T072327Z
UID:5957-1687467600-1687476600@solerelax.it
SUMMARY:Danzando sotto le Stelle al K.DES
DESCRIPTION:
URL:https://solerelax.it/event/danzando-le-stelle-al-k-des-2/
LOCATION:via Zanardelli\, Castiglione delle Stiviere\, 46043\, Italia
CATEGORIES:K.des Kiosco Desenzani
ATTACH;FMTTYPE=image/jpeg:https://solerelax.it/wp-content/uploads/2023/06/ballando-al-k.des-tutti-i-giovedì-.jpg
END:VEVENT
END:VCALENDAR