BEGIN:VCALENDAR
VERSION:2.0
PRODID:-//Sole Relax - ECPv4.5.13//NONSGML v1.0//EN
CALSCALE:GREGORIAN
METHOD:PUBLISH
X-WR-CALNAME:Sole Relax
X-ORIGINAL-URL:https://solerelax.it
X-WR-CALDESC:Events for Sole Relax
BEGIN:VEVENT
DTSTART;TZID=UTC+0:20230616T203000
DTEND;TZID=UTC+0:20230616T233000
DTSTAMP:20260421T194530
CREATED:20230613T075625Z
LAST-MODIFIED:20230613T075625Z
UID:5983-1686947400-1686958200@solerelax.it
SUMMARY:Fiesta Latina al Parco Desenzani - K.DES
DESCRIPTION:
URL:https://solerelax.it/event/fiesta-latina-al-parco-desenzani-k-des/
LOCATION:via Zanardelli\, Castiglione delle Stiviere\, 46043\, Italia
CATEGORIES:K.des Kiosco Desenzani
ATTACH;FMTTYPE=image/jpeg:https://solerelax.it/wp-content/uploads/2023/06/latino-al-k.des-.jpg
END:VEVENT
END:VCALENDAR