BEGIN:VCALENDAR
VERSION:2.0
PRODID:-//Sole Relax - ECPv4.5.13//NONSGML v1.0//EN
CALSCALE:GREGORIAN
METHOD:PUBLISH
X-WR-CALNAME:Sole Relax
X-ORIGINAL-URL:https://solerelax.it
X-WR-CALDESC:Events for Sole Relax
BEGIN:VEVENT
DTSTART;TZID=UTC+0:20230507T153000
DTEND;TZID=UTC+0:20230507T203000
DTSTAMP:20260421T213043
CREATED:20230503T091728Z
LAST-MODIFIED:20230503T092011Z
UID:5829-1683473400-1683491400@solerelax.it
SUMMARY:K.DES Live Sunday
DESCRIPTION:
URL:https://solerelax.it/event/k-des-live-sunday/
LOCATION:via Zanardelli\, Castiglione delle Stiviere\, 46043\, Italia
CATEGORIES:K.des Kiosco Desenzani
ATTACH;FMTTYPE=image/jpeg:https://solerelax.it/wp-content/uploads/2023/05/live-sunday-7-maggio-.jpg
END:VEVENT
END:VCALENDAR