BEGIN:VCALENDAR
VERSION:2.0
PRODID:-//Sole Relax - ECPv4.5.13//NONSGML v1.0//EN
CALSCALE:GREGORIAN
METHOD:PUBLISH
X-WR-CALNAME:Sole Relax
X-ORIGINAL-URL:https://solerelax.it
X-WR-CALDESC:Events for Sole Relax
BEGIN:VEVENT
DTSTART;TZID=UTC+0:20220917T200000
DTEND;TZID=UTC+0:20220917T230000
DTSTAMP:20260422T110819
CREATED:20220823T062341Z
LAST-MODIFIED:20220916T131149Z
UID:5494-1663444800-1663455600@solerelax.it
SUMMARY:ANNULLATO Musik and Food - K.DES
DESCRIPTION:Musik and Food – K.DES Kiosco Desenzani\nMusik and Food\, Sabato 17 Settembre 2022 recuperiamo l’appuntamento di Agosto che purtroppo era stato rimandato per maltempo.\nFiduciosi che questa volta il meteo sia più favorevole Sabato 17 Settembre vi aspettiamo dunque a Castiglione delle Stiviere (MN) al K.DES dalle 20:00 per la cena con il risotto alla mantovana accompagnata dalla musica di DJ Marino Medola. \nIl Kiosco Desenzani è all’interno del parco Desenzani di via Zanardelli.\nPer la risottata è gradita la prenotazione al 370 316 2175\, chiama subito e non mancare! \nSeguici anche su Facebook ed Instagram per non perderti nessun aggiornamento! \n
URL:https://solerelax.it/event/musik-and-food-k-des/
LOCATION:via Zanardelli\, Castiglione delle Stiviere\, 46043\, Italia
CATEGORIES:K.des Kiosco Desenzani
ATTACH;FMTTYPE=image/jpeg:https://solerelax.it/wp-content/uploads/2022/08/musik-and-food-k.des-17-settembre-2022-.jpg
END:VEVENT
END:VCALENDAR