BEGIN:VCALENDAR
VERSION:2.0
PRODID:-//Sole Relax - ECPv4.5.13//NONSGML v1.0//EN
CALSCALE:GREGORIAN
METHOD:PUBLISH
X-WR-CALNAME:Sole Relax
X-ORIGINAL-URL:https://solerelax.it
X-WR-CALDESC:Events for Sole Relax
BEGIN:VEVENT
DTSTART;TZID=UTC+0:20220824T203000
DTEND;TZID=UTC+0:20220824T230000
DTSTAMP:20260422T124529
CREATED:20220823T062734Z
LAST-MODIFIED:20220823T062734Z
UID:5499-1661373000-1661382000@solerelax.it
SUMMARY:Karaoke al K.DES
DESCRIPTION:
URL:https://solerelax.it/event/karaoke-al-k-des/
LOCATION:via Zanardelli\, Castiglione delle Stiviere\, 46043\, Italia
CATEGORIES:K.des Kiosco Desenzani
ATTACH;FMTTYPE=image/jpeg:https://solerelax.it/wp-content/uploads/2022/07/karaoke-k.des-.jpg
END:VEVENT
END:VCALENDAR