BEGIN:VCALENDAR
VERSION:2.0
PRODID:-//Sole Relax - ECPv4.5.13//NONSGML v1.0//EN
CALSCALE:GREGORIAN
METHOD:PUBLISH
X-WR-CALNAME:Sole Relax
X-ORIGINAL-URL:https://solerelax.it
X-WR-CALDESC:Events for Sole Relax
BEGIN:VEVENT
DTSTART;TZID=UTC+0:20220817T203000
DTEND;TZID=UTC+0:20220817T230000
DTSTAMP:20260422T124324
CREATED:20220810T095039Z
LAST-MODIFIED:20220810T095039Z
UID:5482-1660768200-1660777200@solerelax.it
SUMMARY:Karaoke sotto le Stelle K.DES
DESCRIPTION:
URL:https://solerelax.it/event/karaoke-le-stelle-k-des/
LOCATION:via Zanardelli\, Castiglione delle Stiviere\, 46043\, Italia
CATEGORIES:K.des Kiosco Desenzani
ATTACH;FMTTYPE=image/jpeg:https://solerelax.it/wp-content/uploads/2022/07/karaoke-k.des-.jpg
END:VEVENT
END:VCALENDAR