BEGIN:VCALENDAR
VERSION:2.0
PRODID:-//Sole Relax - ECPv4.5.13//NONSGML v1.0//EN
CALSCALE:GREGORIAN
METHOD:PUBLISH
X-WR-CALNAME:Sole Relax
X-ORIGINAL-URL:https://solerelax.it
X-WR-CALDESC:Events for Sole Relax
BEGIN:VEVENT
DTSTART;TZID=UTC+0:20220720T203000
DTEND;TZID=UTC+0:20220720T230000
DTSTAMP:20260422T142324
CREATED:20220715T153059Z
LAST-MODIFIED:20220715T153117Z
UID:5452-1658349000-1658358000@solerelax.it
SUMMARY:Karaoke Kiosco Desenzani
DESCRIPTION:Karaoke Kiosco Desenzani\nIl Karaoke Kiosco Desenzani ti aspetta ogni Mercoledì dalle 20:30 a Castiglione delle Stiviere MN presso il K.DES all’interno del Parco Desenzani mentre ti godi il tuo aperitivo preferito! \nDurante l’evento Dj Maurizio e i suoi collaboratori intervalleranno la scaletta di canzoni cantate da voi con giochi musicali a premi ed altri momenti di intrattenimento divertenti. \nRaggiungici in via Zanardelli e preparati a cantare le tue canzoni preferite nella splendida atmosfera del parco!\nSeguici anche su Facebook ed Instagram per non perderti gli altri eventi organizzati al K.DES. \n
URL:https://solerelax.it/event/karaoke-kiosco-desenzani/
LOCATION:via Zanardelli\, Castiglione delle Stiviere\, 46043\, Italia
CATEGORIES:K.des Kiosco Desenzani
ATTACH;FMTTYPE=image/jpeg:https://solerelax.it/wp-content/uploads/2022/07/karaoke-k.des-.jpg
END:VEVENT
END:VCALENDAR