BEGIN:VCALENDAR
VERSION:2.0
PRODID:-//Sole Relax - ECPv4.5.13//NONSGML v1.0//EN
CALSCALE:GREGORIAN
METHOD:PUBLISH
X-WR-CALNAME:Sole Relax
X-ORIGINAL-URL:https://solerelax.it
X-WR-CALDESC:Events for Sole Relax
BEGIN:VEVENT
DTSTART;TZID=UTC+0:20220713T203000
DTEND;TZID=UTC+0:20220713T230000
DTSTAMP:20260422T142432
CREATED:20220706T131852Z
LAST-MODIFIED:20220706T131852Z
UID:5436-1657744200-1657753200@solerelax.it
SUMMARY:Karaoke Animato K.DES
DESCRIPTION:Karaoke Animato K.DES\nIl Karaoke Animato K.DES ti aspetta ogni Mercoledì dalle 20:30 a Castiglione delle Stiviere MN presso il Kiosco Desenzani all’interno del Parco Desenzani mentre ti godi il tuo aperitivo preferito! \nRaggiungici in via Zanardelli e preparati a cantare le tue canzoni preferite!\nSeguici anche su Facebook ed Instagram per non perderti gli altri eventi organizzati al K.DES. \n
URL:https://solerelax.it/event/karaoke-animato-k-des/
LOCATION:via Zanardelli\, Castiglione delle Stiviere\, 46043\, Italia
CATEGORIES:K.des Kiosco Desenzani
ATTACH;FMTTYPE=image/jpeg:https://solerelax.it/wp-content/uploads/2022/07/karaoke-k.des-.jpg
END:VEVENT
END:VCALENDAR