BEGIN:VCALENDAR
VERSION:2.0
PRODID:-//Sole Relax - ECPv4.5.13//NONSGML v1.0//EN
CALSCALE:GREGORIAN
METHOD:PUBLISH
X-WR-CALNAME:Sole Relax
X-ORIGINAL-URL:https://solerelax.it
X-WR-CALDESC:Events for Sole Relax
BEGIN:VEVENT
DTSTART;TZID=UTC+0:20231119T150000
DTEND;TZID=UTC+0:20231119T200000
DTSTAMP:20260419T212009
CREATED:20231102T135338Z
LAST-MODIFIED:20231102T135338Z
UID:6226-1700406000-1700424000@solerelax.it
SUMMARY:Not Only Lyrics - Cala de Or
DESCRIPTION:
URL:https://solerelax.it/event/not-only-lyrics-cala-de-or/
LOCATION:Via Zamboni - Loc. Spiaggia d'Oro\, Desenzano del Garda\, Brescia\, 25015\, Italia
CATEGORIES:Bar Cala de Or
ATTACH;FMTTYPE=image/jpeg:https://solerelax.it/wp-content/uploads/2023/11/not-only-lyrics-19-novembre-2023-cala-de-or-.jpg
END:VEVENT
END:VCALENDAR