BEGIN:VCALENDAR
VERSION:2.0
PRODID:-//Sole Relax - ECPv4.5.13//NONSGML v1.0//EN
CALSCALE:GREGORIAN
METHOD:PUBLISH
X-WR-CALNAME:Sole Relax
X-ORIGINAL-URL:https://solerelax.it
X-WR-CALDESC:Events for Sole Relax
BEGIN:VEVENT
DTSTART;TZID=UTC+0:20231101T153000
DTEND;TZID=UTC+0:20231101T180000
DTSTAMP:20260419T213029
CREATED:20231019T132525Z
LAST-MODIFIED:20231019T132525Z
UID:6215-1698852600-1698861600@solerelax.it
SUMMARY:Un giro in musica intorno al Mondo Latino - Cala de Or
DESCRIPTION:
URL:https://solerelax.it/event/un-giro-musica-intorno-al-mondo-latino-cala-de-or-2/
LOCATION:Via Zamboni - Loc. Spiaggia d'Oro\, Desenzano del Garda\, Brescia\, 25015\, Italia
CATEGORIES:Bar Cala de Or
ATTACH;FMTTYPE=image/jpeg:https://solerelax.it/wp-content/uploads/2023/10/cala-de-or-1-novembre-2023-un-giro-in-musica-intorno-al-mondo-latino.jpg
END:VEVENT
END:VCALENDAR