BEGIN:VCALENDAR
VERSION:2.0
PRODID:-//Sole Relax - ECPv4.5.13//NONSGML v1.0//EN
CALSCALE:GREGORIAN
METHOD:PUBLISH
X-WR-CALNAME:Sole Relax
X-ORIGINAL-URL:https://solerelax.it
X-WR-CALDESC:Events for Sole Relax
BEGIN:VEVENT
DTSTART;TZID=UTC+0:20231007T173000
DTEND;TZID=UTC+0:20231007T190000
DTSTAMP:20260419T232324
CREATED:20230921T064216Z
LAST-MODIFIED:20230921T064402Z
UID:6165-1696699800-1696705200@solerelax.it
SUMMARY:Aperitivo con i Maestri
DESCRIPTION:
URL:https://solerelax.it/event/aperitivo-con-i-maestri/
LOCATION:Via Zamboni - Loc. Spiaggia d'Oro\, Desenzano del Garda\, Brescia\, 25015\, Italia
CATEGORIES:Bar Cala de Or
ATTACH;FMTTYPE=image/jpeg:https://solerelax.it/wp-content/uploads/2023/09/Cala-de-Or-7-ottobre-aperitivo-coi-maestri.jpg
END:VEVENT
END:VCALENDAR