BEGIN:VCALENDAR
VERSION:2.0
PRODID:-//Sole Relax - ECPv4.5.13//NONSGML v1.0//EN
CALSCALE:GREGORIAN
METHOD:PUBLISH
X-WR-CALNAME:Sole Relax
X-ORIGINAL-URL:https://solerelax.it
X-WR-CALDESC:Events for Sole Relax
BEGIN:VEVENT
DTSTART;TZID=UTC+0:20230924T150000
DTEND;TZID=UTC+0:20230924T190000
DTSTAMP:20260420T023640
CREATED:20230918T085149Z
LAST-MODIFIED:20230918T085149Z
UID:6156-1695567600-1695582000@solerelax.it
SUMMARY:Beach Fun Settembre Cala de Or
DESCRIPTION:
URL:https://solerelax.it/event/beach-fun-settembre-cala-de-or/
LOCATION:Via Zamboni - Loc. Spiaggia d'Oro\, Desenzano del Garda\, Brescia\, 25015\, Italia
CATEGORIES:Bar Cala de Or
ATTACH;FMTTYPE=image/jpeg:https://solerelax.it/wp-content/uploads/2023/09/beach-fun-tutte-le-domeniche-settembre-ed-ottobre-.jpg
END:VEVENT
END:VCALENDAR