BEGIN:VCALENDAR
VERSION:2.0
PRODID:-//Sole Relax - ECPv4.5.13//NONSGML v1.0//EN
CALSCALE:GREGORIAN
METHOD:PUBLISH
X-WR-CALNAME:Sole Relax
X-ORIGINAL-URL:https://solerelax.it
X-WR-CALDESC:Events for Sole Relax
BEGIN:VEVENT
DTSTART;TZID=UTC+0:20230909T103000
DTEND;TZID=UTC+0:20230909T123000
DTSTAMP:20260420T023820
CREATED:20230904T074712Z
LAST-MODIFIED:20230904T074712Z
UID:6139-1694255400-1694262600@solerelax.it
SUMMARY:Prove Ufficiali Air Show
DESCRIPTION:
URL:https://solerelax.it/event/prove-ufficiali-air-show/
LOCATION:Via Zamboni - Loc. Spiaggia d'Oro\, Desenzano del Garda\, Brescia\, 25015\, Italia
CATEGORIES:Bar Cala de Or
ATTACH;FMTTYPE=image/jpeg:https://solerelax.it/wp-content/uploads/2023/09/air-show-desenzano-2023-.jpg
END:VEVENT
END:VCALENDAR