BEGIN:VCALENDAR
VERSION:2.0
PRODID:-//Sole Relax - ECPv4.5.13//NONSGML v1.0//EN
CALSCALE:GREGORIAN
METHOD:PUBLISH
X-WR-CALNAME:Sole Relax
X-ORIGINAL-URL:https://solerelax.it
X-WR-CALDESC:Events for Sole Relax
BEGIN:VEVENT
DTSTART;TZID=UTC+0:20230826T150000
DTEND;TZID=UTC+0:20230826T210000
DTSTAMP:20260420T022942
CREATED:20230731T143623Z
LAST-MODIFIED:20230823T120521Z
UID:6111-1693062000-1693083600@solerelax.it
SUMMARY:Aperitivo Vibes
DESCRIPTION:
URL:https://solerelax.it/event/aperitivo-vibes/
LOCATION:Via Zamboni - Loc. Spiaggia d'Oro\, Desenzano del Garda\, Brescia\, 25015\, Italia
CATEGORIES:Bar Cala de Or
ATTACH;FMTTYPE=image/jpeg:https://solerelax.it/wp-content/uploads/2023/07/aperitivo-vibes-26-agosto-2023-.jpg
END:VEVENT
END:VCALENDAR