BEGIN:VCALENDAR
VERSION:2.0
PRODID:-//Sole Relax - ECPv4.5.13//NONSGML v1.0//EN
CALSCALE:GREGORIAN
METHOD:PUBLISH
X-WR-CALNAME:Sole Relax
X-ORIGINAL-URL:https://solerelax.it
X-WR-CALDESC:Events for Sole Relax
BEGIN:VEVENT
DTSTART;TZID=UTC+0:20230715T153000
DTEND;TZID=UTC+0:20230715T203000
DTSTAMP:20260420T040447
CREATED:20230613T074612Z
LAST-MODIFIED:20230613T075052Z
UID:5977-1689435000-1689453000@solerelax.it
SUMMARY:No Limit Cala Saturday
DESCRIPTION:
URL:https://solerelax.it/event/no-limit-cala-saturday-7/
LOCATION:Via Zamboni - Loc. Spiaggia d'Oro\, Desenzano del Garda\, Brescia\, 25015\, Italia
CATEGORIES:Bar Cala de Or
ATTACH;FMTTYPE=image/jpeg:https://solerelax.it/wp-content/uploads/2023/05/beach-fun-dal-20-maggio-tracciato-.jpg
END:VEVENT
END:VCALENDAR