BEGIN:VCALENDAR
VERSION:2.0
PRODID:-//Sole Relax - ECPv4.5.13//NONSGML v1.0//EN
CALSCALE:GREGORIAN
METHOD:PUBLISH
X-WR-CALNAME:Sole Relax
X-ORIGINAL-URL:https://solerelax.it
X-WR-CALDESC:Events for Sole Relax
BEGIN:VEVENT
DTSTART;TZID=UTC+0:20230625T163000
DTEND;TZID=UTC+0:20230625T203000
DTSTAMP:20260420T053046
CREATED:20230613T084938Z
LAST-MODIFIED:20230613T084938Z
UID:6003-1687710600-1687725000@solerelax.it
SUMMARY:LIVE ACADEMY CALA DE OR
DESCRIPTION:
URL:https://solerelax.it/event/live-academy-cala-de-or/
LOCATION:Via Zamboni - Loc. Spiaggia d'Oro\, Desenzano del Garda\, Brescia\, 25015\, Italia
CATEGORIES:Bar Cala de Or
ATTACH;FMTTYPE=image/jpeg:https://solerelax.it/wp-content/uploads/2023/06/2023.06.25-LIVE-ACADEMY-CALA-DE-OR.jpg
END:VEVENT
END:VCALENDAR