BEGIN:VCALENDAR
VERSION:2.0
PRODID:-//Sole Relax - ECPv4.5.13//NONSGML v1.0//EN
CALSCALE:GREGORIAN
METHOD:PUBLISH
X-WR-CALNAME:Sole Relax
X-ORIGINAL-URL:https://solerelax.it
X-WR-CALDESC:Events for Sole Relax
BEGIN:VEVENT
DTSTART;TZID=UTC+0:20230610T153000
DTEND;TZID=UTC+0:20230610T203000
DTSTAMP:20260420T053025
CREATED:20230606T091547Z
LAST-MODIFIED:20230606T091547Z
UID:5889-1686411000-1686429000@solerelax.it
SUMMARY:No limit Cala Saturday
DESCRIPTION:
URL:https://solerelax.it/event/no-limit-cala-saturday-2/
LOCATION:Via Zamboni - Loc. Spiaggia d'Oro\, Desenzano del Garda\, Brescia\, 25015\, Italia
CATEGORIES:Bar Cala de Or
ATTACH;FMTTYPE=image/jpeg:https://solerelax.it/wp-content/uploads/2023/05/beach-fun-dal-20-maggio-tracciato-.jpg
END:VEVENT
END:VCALENDAR