BEGIN:VCALENDAR
VERSION:2.0
PRODID:-//Sole Relax - ECPv4.5.13//NONSGML v1.0//EN
CALSCALE:GREGORIAN
METHOD:PUBLISH
X-WR-CALNAME:Sole Relax
X-ORIGINAL-URL:https://solerelax.it
X-WR-CALDESC:Events for Sole Relax
BEGIN:VEVENT
DTSTART;TZID=UTC+0:20230602T163000
DTEND;TZID=UTC+0:20230602T203000
DTSTAMP:20260420T052855
CREATED:20230522T083528Z
LAST-MODIFIED:20230522T083528Z
UID:5855-1685723400-1685737800@solerelax.it
SUMMARY:Happy on the Beach - 2 Giugno Cala de Or
DESCRIPTION:
URL:https://solerelax.it/event/happy-the-beach-2-giugno-cala-de-or/
LOCATION:Via Zamboni - Loc. Spiaggia d'Oro\, Desenzano del Garda\, Brescia\, 25015\, Italia
CATEGORIES:Bar Cala de Or
ATTACH;FMTTYPE=image/jpeg:https://solerelax.it/wp-content/uploads/2023/05/2023.06.02-happy-on-the-beach-venerdì-2-giugno-.jpg
END:VEVENT
END:VCALENDAR