BEGIN:VCALENDAR
VERSION:2.0
PRODID:-//Sole Relax - ECPv4.5.13//NONSGML v1.0//EN
CALSCALE:GREGORIAN
METHOD:PUBLISH
X-WR-CALNAME:Sole Relax
X-ORIGINAL-URL:https://solerelax.it
X-WR-CALDESC:Events for Sole Relax
BEGIN:VEVENT
DTSTART;TZID=UTC+0:20230528T153000
DTEND;TZID=UTC+0:20230528T203000
DTSTAMP:20260420T072208
CREATED:20230503T091355Z
LAST-MODIFIED:20230503T091355Z
UID:5821-1685287800-1685305800@solerelax.it
SUMMARY:Cala de Or Beach Fun
DESCRIPTION:
URL:https://solerelax.it/event/cala-de-or-beach-fun/
LOCATION:Via Zamboni - Loc. Spiaggia d'Oro\, Desenzano del Garda\, Brescia\, 25015\, Italia
CATEGORIES:Bar Cala de Or
END:VEVENT
END:VCALENDAR