BEGIN:VCALENDAR
VERSION:2.0
PRODID:-//Sole Relax - ECPv4.5.13//NONSGML v1.0//EN
CALSCALE:GREGORIAN
METHOD:PUBLISH
X-WR-CALNAME:Sole Relax
X-ORIGINAL-URL:https://solerelax.it
X-WR-CALDESC:Events for Sole Relax
BEGIN:VEVENT
DTSTART;TZID=UTC+0:20230430T153000
DTEND;TZID=UTC+0:20230430T203000
DTSTAMP:20260420T091638
CREATED:20230414T141821Z
LAST-MODIFIED:20230414T141821Z
UID:5681-1682868600-1682886600@solerelax.it
SUMMARY:Beach Fun - 30 Aprile - Cala de Or
DESCRIPTION:
URL:https://solerelax.it/event/beach-fun-30-aprile-cala-de-or/
LOCATION:Via Zamboni - Loc. Spiaggia d'Oro\, Desenzano del Garda\, Brescia\, 25015\, Italia
CATEGORIES:Bar Cala de Or
ATTACH;FMTTYPE=image/jpeg:https://solerelax.it/wp-content/uploads/2023/04/beach-fun-tutte-le-domeniche-a-Cala-de-Or-.jpg
END:VEVENT
END:VCALENDAR