BEGIN:VCALENDAR
VERSION:2.0
PRODID:-//Sole Relax - ECPv4.5.13//NONSGML v1.0//EN
CALSCALE:GREGORIAN
METHOD:PUBLISH
X-WR-CALNAME:Sole Relax
X-ORIGINAL-URL:https://solerelax.it
X-WR-CALDESC:Events for Sole Relax
BEGIN:VEVENT
DTSTART;TZID=UTC+0:20230408T153000
DTEND;TZID=UTC+0:20230408T203000
DTSTAMP:20260420T091637
CREATED:20230330T080839Z
LAST-MODIFIED:20230330T080839Z
UID:5635-1680967800-1680985800@solerelax.it
SUMMARY:Aperitivo on the Beach Cala de Or
DESCRIPTION:Aperitivo on the Beach Cala de Or\nAperitivo on the Beach Cala de Or\, Sabato 8 Aprile ti aspettiamo dalle 16:30 a Cala de Or per l’aperitivo in spiaggia con musica live. \nSi esibiranno per noi Sergio Gritti e Bontempi.\nTi aspettiamo in via Zamboni a Desenzano del Garda (BS)\, località Spiaggia d’Oro. \n
URL:https://solerelax.it/event/aperitivo-on-the-beach-cala-de-or/
LOCATION:Via Zamboni - Loc. Spiaggia d'Oro\, Desenzano del Garda\, Brescia\, 25015\, Italia
CATEGORIES:Bar Cala de Or
ATTACH;FMTTYPE=image/jpeg:https://solerelax.it/wp-content/uploads/2023/03/APERITIVO-on-the-beach-Cala-de-Or-Sergio-Gritti-e-Bontempi-2023.04.08-sabato.jpg
END:VEVENT
END:VCALENDAR