BEGIN:VCALENDAR
VERSION:2.0
PRODID:-//Sole Relax - ECPv4.5.13//NONSGML v1.0//EN
CALSCALE:GREGORIAN
METHOD:PUBLISH
X-WR-CALNAME:Sole Relax
X-ORIGINAL-URL:https://solerelax.it
X-WR-CALDESC:Events for Sole Relax
BEGIN:VEVENT
DTSTART;TZID=UTC+0:20220806T150000
DTEND;TZID=UTC+0:20220806T200000
DTSTAMP:20260420T225804
CREATED:20220729T150159Z
LAST-MODIFIED:20220729T150159Z
UID:5463-1659798000-1659816000@solerelax.it
SUMMARY:Sabato on the Beach Cala de Or
DESCRIPTION:
URL:https://solerelax.it/event/sabato-the-beach-cala-de-or-2/
LOCATION:Via Zamboni - Loc. Spiaggia d'Oro\, Desenzano del Garda\, Brescia\, 25015\, Italia
CATEGORIES:Bar Cala de Or
ATTACH;FMTTYPE=image/jpeg:https://solerelax.it/wp-content/uploads/2022/06/sabato-on-the-beach-cala-de-or-.jpg
END:VEVENT
END:VCALENDAR