BEGIN:VCALENDAR
VERSION:2.0
PRODID:-//Sole Relax - ECPv4.5.13//NONSGML v1.0//EN
CALSCALE:GREGORIAN
METHOD:PUBLISH
X-WR-CALNAME:Sole Relax
X-ORIGINAL-URL:https://solerelax.it
X-WR-CALDESC:Events for Sole Relax
BEGIN:VEVENT
DTSTART;TZID=UTC+0:20220731T150000
DTEND;TZID=UTC+0:20220731T200000
DTSTAMP:20260421T005930
CREATED:20220729T150259Z
LAST-MODIFIED:20220729T150259Z
UID:5465-1659279600-1659297600@solerelax.it
SUMMARY:Domenica on the Beach Cala de Or
DESCRIPTION:
URL:https://solerelax.it/event/domenica-the-beach-cala-de-or/
LOCATION:Via Zamboni - Loc. Spiaggia d'Oro\, Desenzano del Garda\, Brescia\, 25015\, Italia
CATEGORIES:Bar Cala de Or
ATTACH;FMTTYPE=image/jpeg:https://solerelax.it/wp-content/uploads/2022/06/domenica-on-the-beach-cala-de-or-.jpg
END:VEVENT
END:VCALENDAR