BEGIN:VCALENDAR
VERSION:2.0
PRODID:-//Sole Relax - ECPv4.5.13//NONSGML v1.0//EN
CALSCALE:GREGORIAN
METHOD:PUBLISH
X-WR-CALNAME:Sole Relax
X-ORIGINAL-URL:https://solerelax.it
X-WR-CALDESC:Events for Sole Relax
BEGIN:VEVENT
DTSTART;TZID=UTC+0:20220717T160000
DTEND;TZID=UTC+0:20220717T200000
DTSTAMP:20260421T005731
CREATED:20220715T152159Z
LAST-MODIFIED:20220715T152159Z
UID:5450-1658073600-1658088000@solerelax.it
SUMMARY:Domenica on the beach con Radio Show Cala de Or
DESCRIPTION:Domenica Cala de Or on the Beach con Radio Show\nLa Domenica non può mancare l’aperitivo in spiaggia\, a Cala de Or ti aspettiamo sempre con la Domenica Cala de Or on the Beach con Radio Show di Skegia DJ! \n⚫️ Aperitivo in spiaggia con Dj set\n⚫️ Domenica 17 LUGLIO 2022 ed ogni Domenica dalle ore 15:00\n⚫️ Cala de Or – via Zamboni\, Desenzano del Garda – località Spiaggia d’Oro\n⚫️ prenota ora il tuo ombrellone cliccando qui!!! \nOgni Domenica a Cala de Or è Domenica on the Beach con Radio Show by Skegia Dj; e la playlist la scegli tu inviando tramite WhatsApp richieste musicali e dediche tra un bagno e l’altro nello splendido lago di Garda o mentre bevi il tuo aperitivo preferito! \nPrenota online il tuo ombrellone sul sito nella sezione dedicata cliccando qui o tramite l’app “Cala de Or – Desenzano del Garda” che puoi scaricare da qui.\nSe scarichi l’app potrai usarla anche per prenotare dall’ombrellone ciò che vuoi ricevere dal bar\, e selezionare il servizio al lettino.\nTi aspettiamo in spiaggia in via Zamboni\, località Spiaggia d’Oro di Desenzano del Garda (BS). \n
URL:https://solerelax.it/event/domenica-the-beach-radio-show-2/
LOCATION:Via Zamboni - Loc. Spiaggia d'Oro\, Desenzano del Garda\, Brescia\, 25015\, Italia
CATEGORIES:Bar Cala de Or
ATTACH;FMTTYPE=image/jpeg:https://solerelax.it/wp-content/uploads/2022/06/domenica-on-the-beach-cala-de-or-.jpg
END:VEVENT
END:VCALENDAR