BEGIN:VCALENDAR
VERSION:2.0
PRODID:-//Sole Relax - ECPv4.5.13//NONSGML v1.0//EN
CALSCALE:GREGORIAN
METHOD:PUBLISH
X-WR-CALNAME:Sole Relax
X-ORIGINAL-URL:https://solerelax.it
X-WR-CALDESC:Events for Sole Relax
BEGIN:VEVENT
DTSTART;TZID=UTC+0:20220410T150000
DTEND;TZID=UTC+0:20220410T190000
DTSTAMP:20260421T061817
CREATED:20220407T140357Z
LAST-MODIFIED:20220407T140357Z
UID:5379-1649602800-1649617200@solerelax.it
SUMMARY:Domenica on the Beach
DESCRIPTION:Domenica on the Beach\nDomenica on the Beach\, Domenica 10 Aprile dalle 15:00 a Cala de Or\, loc. Spiaggia d’Oro – via Zamboni\, Desenzano del Garda. \nAperitivo in spiaggia con la meravigliosa vista del lago\, disponibilità di lettini gratuiti sulla nostra terrazza panoramica per abbronzarti durante l’aperitivo.\nVieni a trovarci e non perderti le nostre sorprese! \n
URL:https://solerelax.it/event/domenica-the-beach/
LOCATION:Via Zamboni - Loc. Spiaggia d'Oro\, Desenzano del Garda\, Brescia\, 25015\, Italia
CATEGORIES:Bar Cala de Or
ATTACH;FMTTYPE=image/jpeg:https://solerelax.it/wp-content/uploads/2022/04/domenica-on-the-beach-cala-de-or-.jpg
END:VEVENT
END:VCALENDAR