BEGIN:VCALENDAR
VERSION:2.0
PRODID:-//Sole Relax - ECPv4.5.13//NONSGML v1.0//EN
CALSCALE:GREGORIAN
METHOD:PUBLISH
X-WR-CALNAME:Sole Relax
X-ORIGINAL-URL:https://solerelax.it
X-WR-CALDESC:Events for Sole Relax
BEGIN:VEVENT
DTSTART;TZID=UTC+0:20210808T150000
DTEND;TZID=UTC+0:20210808T210000
DTSTAMP:20260421T185708
CREATED:20210804T085649Z
LAST-MODIFIED:20210804T085649Z
UID:5331-1628434800-1628456400@solerelax.it
SUMMARY:Radio Show Agosto
DESCRIPTION:Radio Show Agosto\nRadio Show Agosto\, ogni Domenica dalle 15:00 a Desenzano del Garda! \n⚫️ Aperitivo in spiaggia con Dj set\n⚫️ Ogni Domenica dalle ore 15:00\n⚫️ Cala de Or – via Zamboni\, Desenzano del Garda – località Spiaggia d’Oro\n⚫️ prenota ora il tuo ombrellone cliccando qui!!!\n_______________________________________________________________\nOgni Domenica di Agosto dalle ore 15:00 è Radio Show 2021 a Cala de Or\, non mancare!\nIl Dj set di Skegia Dj ci terrà compagnia durante l’aperitivo con la musica mixata dalla vostra playlist!\nVoi scegliete le canzoni e con un messaggio o WhatsApp saranno subito in scaletta!\nE non scordate di mandare le vostre dediche.\nGoditi con noi l’aperitivo in spiaggia e la vista dello splendido lago di Garda.\nPer la sicurezza di tutti rimane vietato ballare\, e chiediamo la massima attenzione al rispetto delle normative anti-covid 19.\nPer info e prenotazione lettini puoi contattare Cala de Or al numero 342 306 4016 anche tramite WhatsApp\, oppure puoi cliccare qui per prenotarlo online.\nE se scarichi l’app cliccando qui oltre a prenotare il tuo ombrellone direttamente online puoi anche ordinare dal bar quello che vuoi e riceverlo comodamente al lettino.\nCi vediamo Domenica\, siamo sempre in Via Zamboni a Desenzano del Garda. \n
URL:https://solerelax.it/event/radio-show-agosto/
LOCATION:Via Zamboni - Loc. Spiaggia d'Oro\, Desenzano del Garda\, Brescia\, 25015\, Italia
CATEGORIES:Bar Cala de Or
ATTACH;FMTTYPE=image/jpeg:https://solerelax.it/wp-content/uploads/2021/08/radio-show-agosto-cala-de-or-desenzano-2021-.jpg
END:VEVENT
END:VCALENDAR