BEGIN:VCALENDAR
VERSION:2.0
PRODID:-//Sole Relax - ECPv4.5.13//NONSGML v1.0//EN
CALSCALE:GREGORIAN
METHOD:PUBLISH
X-WR-CALNAME:Sole Relax
X-ORIGINAL-URL:https://solerelax.it
X-WR-CALDESC:Events for Sole Relax
BEGIN:VEVENT
DTSTART;TZID=UTC+0:20210801T150000
DTEND;TZID=UTC+0:20210801T220000
DTSTAMP:20260421T185755
CREATED:20210726T152503Z
LAST-MODIFIED:20210726T152503Z
UID:5321-1627830000-1627855200@solerelax.it
SUMMARY:Sunday Mix Session Desenzano
DESCRIPTION:Sunday Mix Session Desenzano\nSunday Mix Session Desenzano del Garda (BS)\, Località Spiaggia d’Oro. \nOgni Domenica dalle ore 15:00 a Cala de Or\, Aperitivo in spiaggia con musica.\nLa bellezza della vista del lago\, unita alla sicurezza dei tavoli all’aperto super distanziati ed al comfort della spiaggia in erba per un’aperitivo imperdibile!\nPrenota il tuo ombrellone e goditi il relax del lago!\nNon mancare\, ci trovi in via Zamboni! \nRicorda:\n⚫️ Aperitivo in spiaggia con musica\n⚫️ Ogni Domenica dalle ore 15:00\n⚫️ Cala de Or – via Zamboni\, Desenzano del Garda – località Spiaggia d’Oro \nPer informazioni e prenotazioni lettini chiama il numero 342 306 4016 o contattaci anche tramite WhatsApp. \nIn alternativa puoi cliccare qui per prenotarlo online oppure scaricare l’app cliccando qui che oltre a permetterti di prenotare il tuo ombrellone direttamente online consente di ordinare dal bar quello che vuoi ricevendolo comodamente al lettino. \n
URL:https://solerelax.it/event/sunday-mix-session-desenzano-4/
LOCATION:Via Zamboni - Loc. Spiaggia d'Oro\, Desenzano del Garda\, Brescia\, 25015\, Italia
CATEGORIES:Bar Cala de Or
ATTACH;FMTTYPE=image/jpeg:https://solerelax.it/wp-content/uploads/2021/05/sunday-mix-session-desenzano-del-garda.jpg
END:VEVENT
BEGIN:VEVENT
DTSTART;TZID=UTC+0:20210801T150000
DTEND;TZID=UTC+0:20210801T220000
DTSTAMP:20260421T185755
CREATED:20210729T130406Z
LAST-MODIFIED:20210729T130406Z
UID:5324-1627830000-1627855200@solerelax.it
SUMMARY:1 Agosto 2021 RADIO SHOW
DESCRIPTION:1 AGOSTO 2021 Radio Show\n1 AGOSTO 2021 Radio Show\, dalle 15:00 a Desenzano del Garda! \n⚫️ Aperitivo in spiaggia con Dj set\n⚫️ Domenica 1 Agosto dalle ore 15:00\n⚫️ Cala de Or – via Zamboni\, Desenzano del Garda – località Spiaggia d’Oro\n⚫️ prenota ora il tuo ombrellone cliccando qui!!!\n_______________________________________________________________\n Per iniziare Agosto insieme\, Domenica 1 Agosto dalle ore 15:00 è Radio Show 2021 a Cala de Or\, non mancare!\nIl Dj set di Skegia Dj ci terrà compagnia durante l’aperitivo con la musica mixata dalla vostra playlist!\nVoi scegliete le canzoni e con un messaggio o WhatsApp saranno subito in scaletta!\nE non scordate di mandare le vostre dediche.\nGoditi con noi l’aperitivo in spiaggia e la vista dello splendido lago di Garda.\nPer la sicurezza di tutti rimane vietato ballare\, e chiediamo la massima attenzione al rispetto delle normative anti-covid 19.\nPer info e prenotazione lettini puoi contattare Cala de Or al numero 342 306 4016 anche tramite WhatsApp\, oppure puoi cliccare qui per prenotarlo online.\nE se scarichi l’app cliccando qui oltre a prenotare il tuo ombrellone direttamente online puoi anche ordinare dal bar quello che vuoi e riceverlo comodamente al lettino.\nCi vediamo Domenica\, siamo sempre in Via Zamboni a Desenzano del Garda.\n
URL:https://solerelax.it/event/agosto-2021/
LOCATION:Via Zamboni - Loc. Spiaggia d'Oro\, Desenzano del Garda\, Brescia\, 25015\, Italia
CATEGORIES:Bar Cala de Or
ATTACH;FMTTYPE=image/jpeg:https://solerelax.it/wp-content/uploads/2021/07/Domenica-1-agosto-2021-radio-show-desenzano-del-garda.jpg
END:VEVENT
END:VCALENDAR