BEGIN:VCALENDAR
VERSION:2.0
PRODID:-//Sole Relax - ECPv4.5.13//NONSGML v1.0//EN
CALSCALE:GREGORIAN
METHOD:PUBLISH
X-WR-CALNAME:Sole Relax
X-ORIGINAL-URL:https://solerelax.it
X-WR-CALDESC:Events for Sole Relax
BEGIN:VEVENT
DTSTART;TZID=UTC+0:20210724T150000
DTEND;TZID=UTC+0:20210724T210000
DTSTAMP:20260421T204517
CREATED:20210721T094605Z
LAST-MODIFIED:20210723T150252Z
UID:5316-1627138800-1627160400@solerelax.it
SUMMARY:Radio Show Cala de Or
DESCRIPTION:Radio Show Cala de Or Desenzano 2021\nRadio Show Cala de Or Desenzano 2021\, ogni Sabato dalle 15:00 a Desenzano del Garda! \n⚫️ Aperitivo in spiaggia con Dj set\n⚫️ Ogni Sabato dalle ore 15:00\n⚫️ Cala de Or – via Zamboni\, Desenzano del Garda – località Spiaggia d’Oro \n⚫️ prenota ora il tuo ombrellone cliccando qui!!!\n_______________________________________________________________\nOgni Sabato dalle ore 15:00 è appuntamento fisso con il Radio Show 2021\, non mancare!\nIl Dj set di Skegia Dj ci terrà compagnia durante l’aperitivo con la musica mixata dalla vostra playlist!\nVoi scegliete le canzoni e con un messaggio o WhatsApp saranno subito in scaletta!\nE non scordate di mandare le vostre dediche.\nPer la sicurezza di tutti rimane vietato ballare\, e chiediamo la massima attenzione al rispetto delle normative anti-covid 19.\nPer info e prenotazione lettini puoi contattare Cala de Or al numero 342 306 4016 anche tramite WhatsApp\, oppure puoi cliccare qui per prenotarlo online.\nE se scarichi l’app cliccando qui oltre a prenotare il tuo ombrellone direttamente online puoi anche ordinare dal bar quello che vuoi e riceverlo comodamente al lettino.\nCi vediamo Sabato\, siamo sempre in Via Zamboni a Desenzano del Garda. \n
URL:https://solerelax.it/event/radio-show-cala-de-or-8/
LOCATION:Via Zamboni - Loc. Spiaggia d'Oro\, Desenzano del Garda\, Brescia\, 25015\, Italia
CATEGORIES:Bar Cala de Or
ATTACH;FMTTYPE=image/jpeg:https://solerelax.it/wp-content/uploads/2021/06/2021-radio-show-desenzano-cala-de-or.jpg
END:VEVENT
END:VCALENDAR