BEGIN:VCALENDAR
VERSION:2.0
PRODID:-//Sole Relax - ECPv4.5.13//NONSGML v1.0//EN
CALSCALE:GREGORIAN
METHOD:PUBLISH
X-WR-CALNAME:Sole Relax
X-ORIGINAL-URL:https://solerelax.it
X-WR-CALDESC:Events for Sole Relax
BEGIN:VEVENT
DTSTART;TZID=UTC+0:20210626T150000
DTEND;TZID=UTC+0:20210626T210000
DTSTAMP:20260421T223240
CREATED:20210623T141818Z
LAST-MODIFIED:20210623T141818Z
UID:5284-1624719600-1624741200@solerelax.it
SUMMARY:2021 Radio Show Desenzano
DESCRIPTION:2021 Radio Show Desenzano\n2021 Radio Show Desenzano\, ogni Sabato dalle 15:00 a Desenzano del Garda! \n⚫️ Aperitivo in spiaggia con Dj set\n⚫️ Ogni Sabato dalle ore 15:00\n⚫️ Cala de Or – via Zamboni\, Desenzano del Garda – località Spiaggia d’Oro\n_______________________________________________________________\nOgni Sabato dalle ore 15:00 è appuntamento fisso con il Radio Show 2021\, non mancare!\nIl Dj set di Skegia Dj ci terrà compagnia durante l’aperitivo con la musica mixata dalla vostra playlist!\nVoi scegliete le canzoni e con un messaggio o WhatsApp saranno subito in scaletta!\nE non scordate di mandare le vostre dediche.\nPer la sicurezza di tutti rimane vietato ballare\, e chiediamo la massima attenzione al rispetto delle normative anti-covid 19.\nPer info e prenotazione lettini puoi contattare Cala de Or al numero 342 306 4016 anche tramite WhatsApp\, oppure puoi cliccare qui per prenotarlo online.\nE se scarichi l’app cliccando qui oltre a prenotare il tuo ombrellone direttamente online puoi anche ordinare dal bar quello che vuoi e riceverlo comodamente al lettino.\nCi vediamo Sabato\, siamo sempre in Via Zamboni a Desenzano del Garda. \n
URL:https://solerelax.it/event/2021-radio-show-desenzano/
LOCATION:Via Zamboni - Loc. Spiaggia d'Oro\, Desenzano del Garda\, Brescia\, 25015\, Italia
CATEGORIES:Bar Cala de Or
ATTACH;FMTTYPE=image/jpeg:https://solerelax.it/wp-content/uploads/2021/06/2021-radio-show-desenzano-cala-de-or.jpg
END:VEVENT
BEGIN:VEVENT
DTSTART;TZID=UTC+0:20210626T210000
DTEND;TZID=UTC+0:20210626T230000
DTSTAMP:20260421T223240
CREATED:20210624T141638Z
LAST-MODIFIED:20210624T141638Z
UID:5289-1624741200-1624748400@solerelax.it
SUMMARY:Tifo in Spiaggia
DESCRIPTION:Tifo in Spiaggia\nTifo in Spiaggia\, Sabato dalle 21:00 ti aspettiamo a Cala de Or per tifare con noi la nazionale impegnata nella partita degli europei contro l’Austria. \nGuarda con noi gli ottavi di finale che si svolgono a Londra. \nSiamo in via Zamboni a Desenzano del Garda (BS)\, località Spiaggia d’Oro.\nNon è necessaria alcuna prenotazione\, l’importante è esserci! \n#TifoinSpiaggia \nNon mancare! \nPuoi anche stare con noi fin dal mattino prenotando il tuo ombrellone tramite l’app “Cala de Or – Desenzano del Garda” o telefonicamente.\nPer informazioni contattaci al 342 306 4016 anche tramite WhatsApp. \nSeguici anche su Facebook ed Instagram per non perderti nessun evento. \n
URL:https://solerelax.it/event/tifo-in-spiaggia/
LOCATION:Via Zamboni - Loc. Spiaggia d'Oro\, Desenzano del Garda\, Brescia\, 25015\, Italia
CATEGORIES:Bar Cala de Or
ATTACH;FMTTYPE=image/jpeg:https://solerelax.it/wp-content/uploads/2021/06/tifo-in-spiaggia-.jpg
END:VEVENT
END:VCALENDAR