BEGIN:VCALENDAR
VERSION:2.0
PRODID:-//Sole Relax - ECPv4.5.13//NONSGML v1.0//EN
CALSCALE:GREGORIAN
METHOD:PUBLISH
X-WR-CALNAME:Sole Relax
X-ORIGINAL-URL:https://solerelax.it
X-WR-CALDESC:Events for Sole Relax
BEGIN:VEVENT
DTSTART;TZID=UTC+0:20210611T160000
DTEND;TZID=UTC+0:20210611T230000
DTSTAMP:20260421T222254
CREATED:20210609T125438Z
LAST-MODIFIED:20210609T125438Z
UID:5252-1623427200-1623452400@solerelax.it
SUMMARY:Friday at the lake
DESCRIPTION:Friday at the lake\nFriday at the lake\, l’aperitivo in spiaggia del venerdì sera con Dj Carlone e la musica 70’s – 80’s – 90’s \n⬛️ Venerdì 11 giugno dalle ore 18:00 \n⬛️ Aperitivo in spiaggia con Dj Carlone \n⬛️ Cala de Or\, via Zamboni – Località Spiaggia d’Oro\, Desenzano del Garda \n⬛️ Per informazioni e prenotazione lettini tel 342 306 4016 \nPer la sicurezza di tutti è vietato ballare\, e chiediamo la massima attenzione al rispetto delle normative anti-covid 19. \nScarica la nuovissima app di “Cala de Or – Desenzano del Garda” per prenotare online il tuo ombrellone ed ordinare al bar ricevendo tutto comodamente al lettino. \n
URL:https://solerelax.it/event/friday-at-the-lake/
LOCATION:Via Zamboni - Loc. Spiaggia d'Oro\, Desenzano del Garda\, Brescia\, 25015\, Italia
CATEGORIES:Bar Cala de Or
ATTACH;FMTTYPE=image/jpeg:https://solerelax.it/wp-content/uploads/2021/06/friday-at-the-lake.jpg
END:VEVENT
END:VCALENDAR