BEGIN:VCALENDAR
VERSION:2.0
PRODID:-//Sole Relax - ECPv4.5.13//NONSGML v1.0//EN
CALSCALE:GREGORIAN
METHOD:PUBLISH
X-WR-CALNAME:Sole Relax
X-ORIGINAL-URL:https://solerelax.it
X-WR-CALDESC:Events for Sole Relax
BEGIN:VEVENT
DTSTART;TZID=UTC+0:20210606T180000
DTEND;TZID=UTC+0:20210606T210000
DTSTAMP:20260421T221448
CREATED:20210603T152958Z
LAST-MODIFIED:20210603T153244Z
UID:5250-1623002400-1623013200@solerelax.it
SUMMARY:Sunday Mix Session Desenzano
DESCRIPTION:Sunday Mix Session Desenzano\nSunday Mix Session a Desenzano del Garda (BS)\, Località Spiaggia d’Oro. \nDomenica dalle ore 15:00 a Cala de Or\, Aperitivo in spiaggia con musica.\nLa bellezza della vista del lago\, unita alla sicurezza dei tavoli all’aperto super distanziati ed al comfort della spiaggia in erba per un’aperitivo imperdibile!\nPrenota il tuo ombrellone e goditi il relax del lago!\nNon mancare\, ci trovi in via Zamboni! \nRicorda:\n⚫️ Aperitivo in spiaggia con musica\n⚫️ Ogni Domenica dalle ore 15:00\n⚫️ Cala de Or – via Zamboni\, Desenzano del Garda – località Spiaggia d’Oro \nPer informazioni e prenotazioni lettini chiama il numero 342 306 4016 o contattaci anche tramite WhatsApp. \n
URL:https://solerelax.it/event/sunday-mix-session-desenzano/
LOCATION:Via Zamboni - Loc. Spiaggia d'Oro\, Desenzano del Garda\, Brescia\, 25015\, Italia
CATEGORIES:Bar Cala de Or
ATTACH;FMTTYPE=image/jpeg:https://solerelax.it/wp-content/uploads/2021/05/sunday-mix-session-desenzano-del-garda.jpg
END:VEVENT
END:VCALENDAR