BEGIN:VCALENDAR
VERSION:2.0
PRODID:-//Sole Relax - ECPv4.5.13//NONSGML v1.0//EN
CALSCALE:GREGORIAN
METHOD:PUBLISH
X-WR-CALNAME:Sole Relax
X-ORIGINAL-URL:https://solerelax.it
X-WR-CALDESC:Events for Sole Relax
BEGIN:VEVENT
DTSTART;TZID=UTC+0:20210602T150000
DTEND;TZID=UTC+0:20210602T210000
DTSTAMP:20260421T221033
CREATED:20210531T133130Z
LAST-MODIFIED:20210531T133130Z
UID:5233-1622646000-1622667600@solerelax.it
SUMMARY:70's - 80's - 90's
DESCRIPTION:70’s – 80’s – 90’s\n70’s – 80’s – 90’s music a Desenzano \n◼️ Mercoledì 2 Giugno 2021\n◼️ 70’s – 80’s – 90’s\n◼️ Aperitivo in spiaggia con Dj set by Dj CarlOne\n◼️ via Zamboni\, loc. Spiaggia d’Oro – Desenzano del Garda (BS) \nPer info e prenotazione ombrelloni 342 306 4016 anche tramite WhatsApp! \nNon mancare al primissimo evento di Cala de Or con Dj CarlOne\, e ricorda che è vietato ballare!\nAiutaci a rispettare le normative anti-covid 19\, per noi è importantissima la sicurezza di tutti!\nSeguici anche su Instagram e Facebook\, e taggaci nelle tue foto per condividere con noi la tua esperienza in spiaggia!\nCondivideremo anche nelle nostre Instagram Stories le foto più belle!\nCi vediamo Mercoledì con tutto lo staff di Sole Relax! \n
URL:https://solerelax.it/event/70s-80s-90s/
LOCATION:Via Zamboni - Loc. Spiaggia d'Oro\, Desenzano del Garda\, Brescia\, 25015\, Italia
CATEGORIES:Bar Cala de Or
ATTACH;FMTTYPE=image/jpeg:https://solerelax.it/wp-content/uploads/2021/05/70s-80s-90s.jpg
END:VEVENT
END:VCALENDAR