BEGIN:VCALENDAR
VERSION:2.0
PRODID:-//Sole Relax - ECPv4.5.13//NONSGML v1.0//EN
CALSCALE:GREGORIAN
METHOD:PUBLISH
X-WR-CALNAME:Sole Relax
X-ORIGINAL-URL:https://solerelax.it
X-WR-CALDESC:Events for Sole Relax
BEGIN:VEVENT
DTSTART;TZID=UTC+0:20210530T150000
DTEND;TZID=UTC+0:20210530T200000
DTSTAMP:20260421T235553
CREATED:20210526T074258Z
LAST-MODIFIED:20210526T074258Z
UID:5217-1622386800-1622404800@solerelax.it
SUMMARY:Sunday Mix Session
DESCRIPTION:Sunday Mix Session Desenzano del Garda\nSunday Mix Session Desenzano del Garda\, Località Spiaggia d’Oro. \nDomenica 30 Maggio dalle ore 15:00 a Cala de Or\, Aperitivo in spiaggia con musica.\nLa bellezza della vista del lago\, unita alla sicurezza dei tavoli all’aperto super distanziati ed al comfort della spiaggia in erba per un’aperitivo imperdibile!\nNon mancare\, ci trovi in via Zamboni! \nRicorda:\n⚫️ Aperitivo in spiaggia con musica\n⚫️ Sabato 30 Maggio dalle ore 15:00\n⚫️ Cala de Or – via Zamboni\, Desenzano del Garda – località Spiaggia d’Oro \nPer informazioni e prenotazione lettini chiama il numero 342 306 4016 o contattaci anche tramite WhatsApp. \n
URL:https://solerelax.it/event/sunday-mix-session-2/
LOCATION:Via Zamboni - Loc. Spiaggia d'Oro\, Desenzano del Garda\, Brescia\, 25015\, Italia
CATEGORIES:Bar Cala de Or
ATTACH;FMTTYPE=image/jpeg:https://solerelax.it/wp-content/uploads/2021/05/sunday-mix-session-domenica-.jpg
END:VEVENT
END:VCALENDAR