BEGIN:VCALENDAR
VERSION:2.0
PRODID:-//Sole Relax - ECPv4.5.13//NONSGML v1.0//EN
CALSCALE:GREGORIAN
METHOD:PUBLISH
X-WR-CALNAME:Sole Relax
X-ORIGINAL-URL:https://solerelax.it
X-WR-CALDESC:Events for Sole Relax
BEGIN:VEVENT
DTSTART;TZID=UTC+0:20210522T150000
DTEND;TZID=UTC+0:20210522T200000
DTSTAMP:20260421T234723
CREATED:20210518T075659Z
LAST-MODIFIED:20210518T075659Z
UID:5185-1621695600-1621713600@solerelax.it
SUMMARY:Radio Show 22 Maggio
DESCRIPTION:Radio Show 22 Maggio 2021\nRadio Show 22 Maggio 2021\, aperitivo in spiaggia con Dj set a Cala de Or\, località Spiaggia d’Oro – Desenzano del Garda (BS) \n22 Maggio RADIO SHOW 2021‼️‼️‼️\n⚫️ Aperitivo in spiaggia con Dj set\n⚫️ Sabato 22 Maggio dalle ore 15:00\n⚫️ Cala de Or – via Zamboni\, Desenzano del Garda – località Spiaggia d’Oro\n_______________________________________________________________\nSabato 22 Maggio dalle ore 15:00 non mancare all’appuntamento con il Radio Show 2021.\nIl Dj set di Skegia Dj ci terrà compagnia durante l’aperitivo con la musica mixata dalla vostra playlist!\nVoi scegliete le canzoni e con un messaggio o WhatsApp saranno subito in scaletta!\nE non scordate di mandare le vostre dediche.\nPer la sicurezza di tutti rimane vietato ballare\, e chiediamo la massima attenzione al rispetto delle normative anti-covid 19.\nPer info puoi contattare Cala de Or al numero 342 306 4016 anche tramite WhatsApp.\nCi vediamo Sabato\, siamo sempre in Via Zamboni a Desenzano del Garda. \n
URL:https://solerelax.it/event/radio-show-22-maggio/
LOCATION:Via Zamboni - Loc. Spiaggia d'Oro\, Desenzano del Garda\, Brescia\, 25015\, Italia
CATEGORIES:Bar Cala de Or
ATTACH;FMTTYPE=image/jpeg:https://solerelax.it/wp-content/uploads/2021/05/radio-show-22-maggio-2021.jpg
END:VEVENT
END:VCALENDAR