BEGIN:VCALENDAR
VERSION:2.0
PRODID:-//Sole Relax - ECPv4.5.13//NONSGML v1.0//EN
CALSCALE:GREGORIAN
METHOD:PUBLISH
X-WR-CALNAME:Sole Relax
X-ORIGINAL-URL:https://solerelax.it
X-WR-CALDESC:Events for Sole Relax
BEGIN:VEVENT
DTSTART;TZID=UTC+0:20210508T150000
DTEND;TZID=UTC+0:20210508T190000
DTSTAMP:20260421T234544
CREATED:20210506T093806Z
LAST-MODIFIED:20210506T093806Z
UID:5159-1620486000-1620500400@solerelax.it
SUMMARY:RADIO SHOW 2021
DESCRIPTION:Radio Show 2021\n \nArriva il Radio Show 2021 a Desenzano del Garda. \nSabato 8 Maggio dalle 15:00 aperitivo in spiaggia nella bellissima atmosfera di Cala de Or\, in località Spiaggia d’Oro.\nIl Dj set di Skegia Dj ci terrà compagnia durante l’aperitivo con la musica mixata dalla vostra playlist! Voi scegliete le canzoni e con un messaggio o WhatsApp saranno subito in scaletta!\nPotrete anche fare una dedica\, un saluto e i complimenti al nostro Dj che tanto ci è mancato nel periodo invernale. \nPer la sicurezza di tutti rimane vietato ballare\, e chiediamo la massima attenzione al rispetto delle normative anti-covid 19.\nPer info puoi contattare Cala de Or al numero 342 306 4016 anche tramite WhatsApp. \nCi vediamo Sabato\, siamo sempre in Via Zamboni a Desenzano del Garda. \n
URL:https://solerelax.it/event/radio-show-2021/
LOCATION:Via Zamboni - Loc. Spiaggia d'Oro\, Desenzano del Garda\, Brescia\, 25015\, Italia
CATEGORIES:Bar Cala de Or
ATTACH;FMTTYPE=image/jpeg:https://solerelax.it/wp-content/uploads/2021/05/radio-show-2021-vietato-ballare-quadrato-.jpg
END:VEVENT
END:VCALENDAR