BEGIN:VCALENDAR
VERSION:2.0
PRODID:-//Sole Relax - ECPv4.5.13//NONSGML v1.0//EN
CALSCALE:GREGORIAN
METHOD:PUBLISH
X-WR-CALNAME:Sole Relax
X-ORIGINAL-URL:https://solerelax.it
X-WR-CALDESC:Events for Sole Relax
BEGIN:VEVENT
DTSTART;TZID=UTC+0:20200823T170000
DTEND;TZID=UTC+0:20200823T233000
DTSTAMP:20260422T145237
CREATED:20200821T085135Z
LAST-MODIFIED:20200821T091753Z
UID:5121-1598202000-1598225400@solerelax.it
SUMMARY:Domenica Latina - Vietato Ballare
DESCRIPTION:Domenica Latina – Vietato Ballare\nDomenica 23 Agosto 2020 è Domenica Latina a Cala de Or\, ma ricorda che è VIETATO BALLARE! \nTi aspettiamo! \nDalle 17:00 aperitivo in spiaggia con dj set by Dj Teddy.\nPrenota il tuo ombrellone al numero 342 306 4016 per stare con noi fin dal mattino e goderti il meraviglioso Lago di Garda. ☀️ \n⚠️Ricordati di divertirti responsabilmente\, aiutaci a rispettare le norme vigenti anti-covid 19 ⚠️\nDurante l’evento sarà importante l’aiuto di tutti nel prestare attenzione alle norme vigenti.\nIn particolare ricorda che è assolutamente VIETATO BALLARE\, chiunque non rispetterà le regole verrà allontanato. ⚠️ \nCi trovate a Cala de Or\, in via Zamboni\, località Spiaggia d’Oro di Desenzano del Garda (BS).\nSeguici anche sui nostri canali social per non perderti nessuna novità: Facebook ed Instagram. \n
URL:https://solerelax.it/event/domenica-latina-vietato-ballare/
LOCATION:Via Zamboni - Loc. Spiaggia d'Oro\, Desenzano del Garda\, Brescia\, 25015\, Italia
CATEGORIES:Bar Cala de Or
ATTACH;FMTTYPE=image/jpeg:https://solerelax.it/wp-content/uploads/2020/08/domenica-latina-vietato-ballare.jpg
END:VEVENT
END:VCALENDAR