BEGIN:VCALENDAR
VERSION:2.0
PRODID:-//Sole Relax - ECPv4.5.13//NONSGML v1.0//EN
CALSCALE:GREGORIAN
METHOD:PUBLISH
X-WR-CALNAME:Sole Relax
X-ORIGINAL-URL:https://solerelax.it
X-WR-CALDESC:Events for Sole Relax
BEGIN:VEVENT
DTSTART;TZID=UTC+0:20200809T170000
DTEND;TZID=UTC+0:20200809T233000
DTSTAMP:20260422T145849
CREATED:20200723T080052Z
LAST-MODIFIED:20200723T080052Z
UID:5079-1596992400-1597015800@solerelax.it
SUMMARY:Eventi Agosto Desenzano: Domenica Latina
DESCRIPTION:Eventi Agosto Desenzano: Domenica Latina\n2020 Eventi Agosto Desenzano del Garda: Domenica Latina a Cala de Or. \nDomenica 9 Agosto 2020 dalle 17:00 aperitivo sulla meravigliosa Spiaggia d’Oro di Desenzano del Garda con la musica di Dj Teddy.\nE per goderti il Lago di Garda con noi fin dal mattino prenota il tuo ombrellone al numero 342 306 4016 anche in terrazza. \nDurante l’evento sarà importante l’aiuto di tutti\, aiutaci a rispettare le norme vigenti anti-covid 19. Divertiamoci responsabilmente. \nCi trovate a Cala de Or\, in via Zamboni\, località Spiaggia d’Oro di Desenzano del Garda (BS).\nSeguici anche sui nostri canali social per non perderti nessuna novità: Facebook ed Instagram. \n  \n  \n  \nEventi Agosto Desenzano 2020 \nEnglish: Events August Desenzano – Latin Sunday\n2020 Events August Desenzano del Garda: Latin Sunday in Cala de Or. \nSunday 9 August 2020 from 17:00 aperitif on the wonderful Golden Beach of Desenzano del Garda with the music of Dj Teddy.\nAnd to enjoy Lake Garda with us from the morning\, book your umbrella at 342 306 4016 also on the terrace. \nDuring the event everyone’s help will be important\, help us to comply with the anti-covid rules 19. Let’s have fun responsibly. \nYou can find us in Cala de Or\, in via Zamboni\, in the Golden Beach area of ​​Desenzano del Garda (BS).\nFollow us also on our social channels to not miss any news: Facebook and Instagram. \n\n  \n  \nEventi Agosto Desenzano 2020 \nFrançais: Événements Août Desenzano – Dimanche Latin\nÉvénements 2020 Août Desenzano del Garda: dimanche latin à Cala de Or. \nDimanche 9 août 2020 à partir de 17h00 apéritif sur la magnifique plage dorée de Desenzano del Garda avec la musique de Dj Teddy.\nEt pour profiter du lac de Garde avec nous dès le matin\, réservez votre parasol au 342 306 4016 également sur la terrasse. \nLors de l’événement\, l’aide de chacun sera importante\, aidez-nous à respecter les règles anti-covid 19. Amusons-nous de manière responsable. \nVous pouvez nous trouver à Cala de Or\, via Zamboni\, dans le quartier Golden Beach de Desenzano del Garda (BS).\nSuivez-nous également sur nos réseaux sociaux pour ne manquer aucune actualité: Facebook et Instagram. \n  \n  \n  \nEventi Agosto Desenzano 2020 \nDeutsche: Veranstaltungen August Desenzano – Lateinischer Sonntag\n2020 Veranstaltungen August Desenzano del Garda: Lateinischer Sonntag in Cala de Or. \nSonntag\, 9. August 2020 ab 17:00 Uhr Aperitif am wunderschönen Goldenen Strand von Desenzano del Garda mit der Musik von Dj Teddy.\nUnd um ab dem Morgen mit uns den Gardasee zu genießen\, buchen Sie Ihren Regenschirm unter 342 306 4016 auch auf der Terrasse. \nWährend der Veranstaltung wird die Hilfe aller wichtig sein. Helfen Sie uns\, die Anti-Covid-Regeln 19 einzuhalten. Lassen Sie uns verantwortungsbewusst Spaß haben. \nSie finden uns in Cala de Or\, in der Via Zamboni\, am Goldenen Strand von Desenzano del Garda (BS).\nFolgen Sie uns auch auf unseren sozialen Kanälen\, um keine Neuigkeiten zu verpassen: Facebook und Instagram. \n
URL:https://solerelax.it/event/eventi-agosto-desenzano-domenica-latina/
LOCATION:Via Zamboni - Loc. Spiaggia d'Oro\, Desenzano del Garda\, Brescia\, 25015\, Italia
CATEGORIES:Bar Cala de Or
ATTACH;FMTTYPE=image/jpeg:https://solerelax.it/wp-content/uploads/2020/07/Eventi-Agosto-Desenzano-2020-Domenica-Latina.jpg
END:VEVENT
END:VCALENDAR