BEGIN:VCALENDAR
VERSION:2.0
PRODID:-//Sole Relax - ECPv4.5.13//NONSGML v1.0//EN
CALSCALE:GREGORIAN
METHOD:PUBLISH
X-WR-CALNAME:Sole Relax
X-ORIGINAL-URL:https://solerelax.it
X-WR-CALDESC:Events for Sole Relax
BEGIN:VEVENT
DTSTART;TZID=UTC+0:20200726T170000
DTEND;TZID=UTC+0:20200726T233000
DTSTAMP:20260422T164402
CREATED:20200722T081131Z
LAST-MODIFIED:20200722T081131Z
UID:5071-1595782800-1595806200@solerelax.it
SUMMARY:Domenica Latina 26 Luglio 2020
DESCRIPTION:Domenica Latina 26 Luglio 2020\nDomenica Latina 26 Luglio 2020 a Cala de Or. \nDalle 17:00 Aperitivo in spiaggia con dj set by Dj Teddy.\nPrenota subito il tuo ombrellone al 342 306 4016 per stare con noi fin dal mattino. \nDurante l’evento sarà importante l’aiuto di tutti nel prestare attenzione alle norme vigenti anti-covid 19 perchè la sicurezza viene prima di tutto. Siamo certi comunque che sarà possibile divertirsi senza pericolo\, e probabilmente lo sapete anche voi\, l’abbiamo fatto anche domenica scorsa ed è andata benissimo. Non sono stati e non saranno tollerati comportamenti non consentiti dalle normative vigenti\, divertiamoci responsabilmente. \nCi trovate a Cala de Or\, in via Zamboni\, località Spiaggia d’Oro di Desenzano del Garda (BS).\nSeguici anche sui nostri canali social per non perderti nessuna novità: Facebook ed Instagram. \n  \n  \nEventi Desenzano: Domenica Latina 26 Luglio 2020 \nEnglish: Latin Sunday\nLatin Sunday 26 July 2020 in Cala de Or. \nFrom 17:00 Aperitif on the beach with DJ set by Dj Teddy.\nBook your umbrella now at 342 306 4016 to stay with us from the morning. \nDuring the event\, everyone’s help in paying attention to the anti-covid 19 regulations will be important because safety comes first. We are confident however that it will be possible to have fun without danger\, and you probably know it too\, we did it also last Sunday and it went very well. Behaviors not permitted by current regulations have not been and will not be tolerated\, let’s have fun responsibly. \nYou can find us in Cala de Or\, in via Zamboni\, in the golden beach of Desenzano del Garda (BS).\nFollow us also on our social channels to not miss any news: Facebook and Instagram. \n  \n  \nEventi Desenzano: Domenica Latina 26 Luglio 2020 \nFrançais: Dimanche latin\nDimanche latin 26 juillet 2020 à Cala de Or. \nA partir de 17h00 Apéritif sur la plage avec DJ set par Dj Teddy.\nRéservez votre parapluie maintenant au 342 306 4016 pour rester avec nous dès le matin. \nPendant l’événement\, l’aide de chacun pour faire attention à la réglementation anti-covid 19 sera importante car la sécurité passe avant tout. Nous sommes cependant convaincus qu’il sera possible de s’amuser sans danger\, et vous le savez probablement aussi\, nous l’avons fait aussi dimanche dernier et cela s’est très bien passé. Les comportements non autorisés par la réglementation en vigueur n’ont pas été et ne seront pas tolérés\, amusons-nous de manière responsable. \nVous pouvez nous trouver à Cala de Or\, via Zamboni\, sur la plage dorée de Desenzano del Garda (BS).\nSuivez-nous également sur nos réseaux sociaux pour ne manquer aucune actualité: Facebook et Instagram. \n  \n  \nEventi Desenzano: Domenica Latina 26 Luglio 2020 \nDeutsche: Lateinischer Sonntag\nLateinischer Sonntag\, 26. Juli 2020 in Cala de Or. \nAb 17:00 Uhr Aperitif am Strand mit DJ von Dj Teddy.\nBuchen Sie jetzt Ihren Regenschirm unter 342 306 4016 und bleiben Sie ab morgen bei uns. \nWährend der Veranstaltung wird die Hilfe aller wichtig sein\, um die Anti-Covid-19-Vorschriften zu beachten\, da Sicherheit an erster Stelle steht. Wir sind jedoch zuversichtlich\, dass es möglich sein wird\, Spaß ohne Gefahr zu haben\, und Sie wissen es wahrscheinlich auch\, wir haben es auch letzten Sonntag gemacht und es ist sehr gut gelaufen. Verhaltensweisen\, die nach den geltenden Vorschriften nicht zulässig sind\, wurden und werden nicht toleriert. Lassen Sie uns verantwortungsbewusst Spaß haben. \nSie finden uns in Cala de Or\, in der Via Zamboni\, am goldenen Strand von Desenzano del Garda (BS).\nFolgen Sie uns auch auf unseren sozialen Kanälen\, um keine Neuigkeiten zu verpassen: Facebook und Instagram. \n
URL:https://solerelax.it/event/domenica-latina-26-luglio-2020/
LOCATION:Via Zamboni - Loc. Spiaggia d'Oro\, Desenzano del Garda\, Brescia\, 25015\, Italia
CATEGORIES:Bar Cala de Or
ATTACH;FMTTYPE=image/jpeg:https://solerelax.it/wp-content/uploads/2020/07/Domenica-Latina-26-Luglio-2020-Desenzano-.jpg
END:VEVENT
END:VCALENDAR