BEGIN:VCALENDAR
VERSION:2.0
PRODID:-//Sole Relax - ECPv4.5.13//NONSGML v1.0//EN
CALSCALE:GREGORIAN
METHOD:PUBLISH
X-WR-CALNAME:Sole Relax
X-ORIGINAL-URL:https://solerelax.it
X-WR-CALDESC:Events for Sole Relax
BEGIN:VEVENT
DTSTART;TZID=UTC+0:20200725T160000
DTEND;TZID=UTC+0:20200725T200000
DTSTAMP:20260422T164157
CREATED:20200724T124703Z
LAST-MODIFIED:20200724T124703Z
UID:5095-1595692800-1595707200@solerelax.it
SUMMARY:Radio Show 2020
DESCRIPTION:Radio Show 2020\nRadio Show 2020\, Sabato 25 Luglio 2020 a Cala de Or.\nLa nuova dimensione del dj set dove la playlist la fate voi! \nDalle 16:00 Aperitivo in spiaggia con dj set by Skegia Dj\, che mixerà per noi le tue canzoni preferite\, le tue dediche ed i tuoi saluti…\nPrenota subito il tuo ombrellone al 342 306 4016 per stare con noi fin dal mattino. \nDurante l’evento sarà importante l’aiuto di tutti nel prestare attenzione alle norme vigenti anti-covid 19\, divertiamoci responsabilmente. \nCi trovate a Cala de Or\, in via Zamboni\, località Spiaggia d’Oro di Desenzano del Garda (BS).\nSeguici anche sui nostri canali social per non perderti nessuna novità: Facebook ed Instagram. \n  \n  \nEnglish: Radio Show 2020\nRadio Show 2020\, Saturday 25 July 2020 in Cala de Or.\nThe new dimension of the DJ set where you make the playlist! \nFrom 16:00 Aperitif on the beach with DJ set by Skegia Dj\, who will mix your favorite songs\, your dedications and greetings for us …\nBook your umbrella now at 342 306 4016 to stay with us from the morning. \nDuring the event\, everyone’s help in paying attention to the anti-covid 19 regulations will be important\, let’s have fun responsibly. \nYou can find us in Cala de Or\, in via Zamboni\, in the Golden Beach area of ​​Desenzano del Garda (BS).\nFollow us also on our social channels to not miss any news: Facebook and Instagram. \n  \n  \nFrançais: Radio Show 2020\nRadio Show 2020\, samedi 25 juillet 2020 à Cala de Or.\nLa nouvelle dimension du DJ set où vous créez la playlist! \nA partir de 16:00 Apéritif sur la plage avec DJ set par Skegia Dj\, qui mixera vos chansons préférées\, vos dédicaces et salutations pour nous …\nRéservez votre parapluie maintenant au 342 306 4016 pour rester avec nous dès le matin. \nPendant l’événement\, l’aide de chacun pour faire attention à la réglementation anti-covid 19 sera importante\, amusons-nous de manière responsable. \nVous pouvez nous trouver à Cala de Or\, via Zamboni\, dans le quartier Golden Beach de Desenzano del Garda (BS).\nSuivez-nous également sur nos réseaux sociaux pour ne manquer aucune actualité: Facebook et Instagram. \n  \nDeutsche: Radio Show 2020\nRadio Show 2020\, Samstag\, 25. Juli 2020 in Cala de Or.\nDie neue Dimension des DJ-Sets\, in dem Sie die Wiedergabeliste erstellen! \nAb 16:00 Uhr Aperitif am Strand mit DJ-Set von Skegia Dj\, die Ihre Lieblingslieder\, Ihre Widmungen und Grüße für uns mischen wird …\nBuchen Sie jetzt Ihren Regenschirm unter 342 306 4016 und bleiben Sie ab morgen bei uns. \nWährend der Veranstaltung wird es wichtig sein\, dass jeder dabei hilft\, die Anti-Covid-19-Vorschriften zu beachten. Lassen Sie uns verantwortungsbewusst Spaß haben. \nSie finden uns in Cala de Or\, in der Via Zamboni\, am Goldenen Strand von Desenzano del Garda (BS).\nFolgen Sie uns auch auf unseren sozialen Kanälen\, um keine Neuigkeiten zu verpassen: Facebook und Instagram. \n
URL:https://solerelax.it/event/radio-show-2020/
LOCATION:Via Zamboni - Loc. Spiaggia d'Oro\, Desenzano del Garda\, Brescia\, 25015\, Italia
CATEGORIES:Bar Cala de Or
ATTACH;FMTTYPE=image/jpeg:https://solerelax.it/wp-content/uploads/2020/07/radio-show-2020-Cala-De-Or-.jpg
END:VEVENT
END:VCALENDAR