BEGIN:VCALENDAR
VERSION:2.0
PRODID:-//Sole Relax - ECPv4.5.13//NONSGML v1.0//EN
CALSCALE:GREGORIAN
METHOD:PUBLISH
X-WR-CALNAME:Sole Relax
X-ORIGINAL-URL:https://solerelax.it
X-WR-CALDESC:Events for Sole Relax
BEGIN:VEVENT
DTSTART;TZID=UTC+0:20200719T170000
DTEND;TZID=UTC+0:20200719T233000
DTSTAMP:20260422T164013
CREATED:20200715T152759Z
LAST-MODIFIED:20200715T152759Z
UID:5065-1595178000-1595201400@solerelax.it
SUMMARY:Eventi Desenzano: Domenica Latina Luglio 2020
DESCRIPTION:Eventi Desenzano Luglio 2020: Domenica Latina\nEventi Desenzano Luglio 2020: Riprende Domenica 19 Luglio la stagione di eventi a Cala de Or!\nQuest’anno la Domenica Latina ci è stata fatta attendere a lungo\, per questo ci piace ancora di più!\nDurante l’evento sarà importante l’aiuto di tutti nel prestare attenzione alle norme vigenti anti-covid 19 perchè la sicurezza viene prima di tutto. Siamo certi comunque che sarà possibile divertirsi senza pericolo\, anche perchè\, come certamente ricorderete\, l’abbiamo fatto anche il mese scorso ed è andata benissimo. Non sono stati e non saranno tollerati comportamenti non consentiti dalle normative vigenti\, divertiamoci responsabilmente. \nDalle 17:00 aperitivo in spiaggia con dj set by Dj Teddy\, ma potete stare con noi fin dal primo mattino\, basta prenotare al numero 342 306 4016 il vostro ombrellone già ora!\nSe siete pronti per l’estate\, vi aspettiamo a Cala de Or! \nCi trovate in via Zamboni\, Loc. Spiaggia d’Oro a Desenzano del Garda (BS).\nSeguici anche sui nostri canali social per non perderti nessuna novità: Facebook ed Instagram \n
URL:https://solerelax.it/event/eventi-desenzano-luglio-2020/
LOCATION:Via Zamboni - Loc. Spiaggia d'Oro\, Desenzano del Garda\, Brescia\, 25015\, Italia
CATEGORIES:Bar Cala de Or
ATTACH;FMTTYPE=image/jpeg:https://solerelax.it/wp-content/uploads/2020/07/eventi-desenzano-luglio-2020-domenica-latina-.jpg
END:VEVENT
END:VCALENDAR